BEGIN:VCALENDAR
VERSION:2.0
PRODID:-//Makusue Ski And Sport Club - ECPv6.9.0//NONSGML v1.0//EN
CALSCALE:GREGORIAN
METHOD:PUBLISH
X-WR-CALNAME:Makusue Ski And Sport Club
X-ORIGINAL-URL:http://makusue.org
X-WR-CALDESC:Events for Makusue Ski And Sport Club
REFRESH-INTERVAL;VALUE=DURATION:PT1H
X-Robots-Tag:noindex
X-PUBLISHED-TTL:PT1H
BEGIN:VTIMEZONE
TZID:UTC
BEGIN:STANDARD
TZOFFSETFROM:+0000
TZOFFSETTO:+0000
TZNAME:UTC
DTSTART:20160101T000000
END:STANDARD
END:VTIMEZONE
BEGIN:VEVENT
DTSTART;TZID=UTC:20190301T080000
DTEND;TZID=UTC:20190303T170000
DTSTAMP:20260424T155321
CREATED:20181109T185635Z
LAST-MODIFIED:20181109T185635Z
UID:612-1551427200-1551632400@makusue.org
SUMMARY:Championship Race at Attitash
DESCRIPTION:Come visit the Makusue Ski House and cheer on the Makusue Race team! Join us for discount tickets at Attitash and support the race team by cheering on! \nFri: Arrive at the Mak house around 10pm\, get to know the racers. \nSat: Join the race team skiing at Attitash. Tickets will be sold from 8:00am-9:30am and are CASH ONLY. You will need to have an EICSL Id or Guest pass to receive the discount. \nSunday: More skiing/riding\, just hanging or shopping in downtown North Conway!
URL:http://makusue.org/event/championship-race-attitash-2/
END:VEVENT
BEGIN:VEVENT
DTSTART;TZID=UTC:20190208T220000
DTEND;TZID=UTC:20190210T170000
DTSTAMP:20260424T155321
CREATED:20181109T185525Z
LAST-MODIFIED:20181121T183132Z
UID:610-1549663200-1549818000@makusue.org
SUMMARY:3rd Race Qualifier: Wildcat
DESCRIPTION:Come visit the Makusue Ski House and cheer on the Makusue Race team! Join us for discount tickets at Wildcat and support the race team by cheering on\, or take a first-timer run on the course! \nFri: Arrive at the Mak house around 10pm\, get to know the racers. \nSat: Join the race team skiing at Wildcat. Tickets will be sold from 8:00am-9:30am and are CASH ONLY. You will need to have an EICSL Id or Guest pass to receive the discount. \nSunday: More skiing/riding\, just hanging or shopping in downtown North Conway!
URL:http://makusue.org/event/3rd-race-qualifier-wildcat/
END:VEVENT
BEGIN:VEVENT
DTSTART;TZID=UTC:20190125T220000
DTEND;TZID=UTC:20190127T170000
DTSTAMP:20260424T155321
CREATED:20181109T185337Z
LAST-MODIFIED:20181109T185337Z
UID:607-1548453600-1548608400@makusue.org
SUMMARY:2nd Race Qualifier: Attitash
DESCRIPTION:Come visit the Makusue Ski House and cheer on the Makusue Race team! Join us for discount tickets at Attitash and support the race team by cheering on\, or take a first-timer run on the course! \nFri: Arrive at the Mak house around 10pm\, get to know the racers. \nSat: Join the race team skiing at Attitash. Tickets will be sold from 8:00am-9:30am and are CASH ONLY. You will need to have an EICSL Id or Guest pass to receive the discount. \nSunday: More skiing/riding\, just hanging or shopping in downtown North Conway!
URL:http://makusue.org/event/2nd-race-qualifier-attitash/
END:VEVENT
BEGIN:VEVENT
DTSTART;TZID=UTC:20190104T220000
DTEND;TZID=UTC:20190106T170000
DTSTAMP:20260424T155321
CREATED:20181109T165212Z
LAST-MODIFIED:20181121T183036Z
UID:603-1546639200-1546794000@makusue.org
SUMMARY:1st Race Qualifier: Wildcat
DESCRIPTION:Come visit the Makusue Ski Club and cheer on the Makusue Race team! Join us for discount tickets at Bretton Woods and support the race team by cheering\, or take a first-timer run on the course! \nFri: Arrive at the Mak house around 10pm\, get to know the racers.\nSat: Join the race team skiing at Wildcat. There will be discount tickets available sold on the second floor of the lodge. Tickets will be sold from 8:00am-9:30am and are CASH ONLY. You will need to have an EICSL Id or Guest pass to receive the discount.
URL:http://makusue.org/event/1st-race-qualifier-bretton-woods/
LOCATION:Makusue Ski & Sport Club
END:VEVENT
BEGIN:VEVENT
DTSTART;TZID=UTC:20181228T220000
DTEND;TZID=UTC:20190101T170000
DTSTAMP:20260424T155321
CREATED:20181109T161223Z
LAST-MODIFIED:20181109T164440Z
UID:598-1546034400-1546362000@makusue.org
SUMMARY:New Years Weekend
DESCRIPTION:  \n  \n  \n  \n  \nJoin the Makusues ringing in the New Year in the White Mountains. \nNYE is a Monday! That means a nice long weekend to ring in the year the best way the Makusues know how! We will be riding\, skiing\, hiking and just hanging out. Bring the gear you would need for your favorite activities. If you plan to hike dress for warmth! Bring micro spikes because it will be slippery on the trails. \nLodging is $25 per night per person. \nMeals will be available\, we will update with more details on cost and days. \nAll yes RSVPs will be followed up with a phone call to all first time visitors. \nThis is always a fun weekend and a great chance to get to know the Makusues!
URL:http://makusue.org/event/kickoff-weekend/
LOCATION:Makusue Ski & Sport Club
END:VEVENT
BEGIN:VEVENT
DTSTART;TZID=UTC:20181207T220000
DTEND;TZID=UTC:20181209T170000
DTSTAMP:20260424T155321
CREATED:20181109T171230Z
LAST-MODIFIED:20181109T171230Z
UID:605-1544220000-1544374800@makusue.org
SUMMARY:Kickoff Weekend
DESCRIPTION:Join us for kickoff weekend with discount tickets at Bretton Woods. Mt Washington usually blesses Bretton Woods with plenty of early snow fall and for the last few years we’ve had fresh powder to ride! \nMeet at the Makusue Ski House Friday night around 9pm and get to know some of the members. \nSaturday morning they will be selling discount tickets upstairs at the Bretton Woods lodge to all guests of the house. CASH ONLY- You must have your EICSL Guest Pass or ID. \nSpend the rest of the day skiing\, riding\, racing and meet some great people to spend the season with. This is a great mountain to enjoy some early season runs. \nThe whole weekend will cost $134 – includes lodging\, lift ticket (paid to the mountain) Meals (Breakfast Sat & Sun\, Dinner Sat) Bring or purchase lunch at the mountain\, and apres ski events. \nWe will follow up all yes RSVPs with an email and phone call with more details about the weekend\, and please let us know by Dec 5th. \nWe hope to see you up there. Think Snow!! \n**The Makusue Ski House\, located in North Conway\, NH\, is only minutes from Cranmore\, Wildcat\, Attitash and Black Mountains. Come be our guest for the weekend at only $25 a night per person (The Makusue Ski Club is a not-for-profit club with all $ put back into the house to cover expenses.) Visit Makusue.org for more information or email us!**
URL:http://makusue.org/event/kickoff-weekend-2/
LOCATION:Makusue Ski & Sport Club
END:VEVENT
BEGIN:VEVENT
DTSTART;TZID=UTC:20180302T210000
DTEND;TZID=UTC:20180304T170000
DTSTAMP:20260424T155321
CREATED:20180113T185736Z
LAST-MODIFIED:20180113T185736Z
UID:579-1520024400-1520182800@makusue.org
SUMMARY:Championship Race at Attitash
DESCRIPTION:Join us to cheer on the race team at Attitash for the Championship! \nDiscount tickets will be available to all guests of the Makusues. \nMeals and activities are planned all weekend. Email membership@makusue.org for more information.
URL:http://makusue.org/event/championship-race-attitash/
LOCATION:Makusue Ski & Sport Club
END:VEVENT
BEGIN:VEVENT
DTSTART;TZID=UTC:20180209T210000
DTEND;TZID=UTC:20180211T170000
DTSTAMP:20260424T155321
CREATED:20180113T185557Z
LAST-MODIFIED:20180113T185557Z
UID:577-1518210000-1518368400@makusue.org
SUMMARY:Race Qualifier at Cranmore
DESCRIPTION:Join us to cheer on the race team at Cranmore. \nDiscount tickets will be available to all guests of the Makusues. \nMeals and activities are planned all weekend. Email membership@makusue.org for more information.
URL:http://makusue.org/event/race-qualifier-cranmore/
LOCATION:Makusue Ski & Sport Club
END:VEVENT
BEGIN:VEVENT
DTSTART;TZID=UTC:20180202T210000
DTEND;TZID=UTC:20180304T170000
DTSTAMP:20260424T155321
CREATED:20180113T190012Z
LAST-MODIFIED:20180113T190012Z
UID:581-1517605200-1520182800@makusue.org
SUMMARY:Superbowl Weekend at the Maks
DESCRIPTION:Join us for a weekend of sliding on the snow and watching football! Many mountains in the area offer discounts for Superbowl day skiing and there will be plenty of time to get back to the house to watch the game. \nMeals and activities are planned all weekend. Email membership@makusue.org for more information.
URL:http://makusue.org/event/superbowl-weekend-maks/
LOCATION:Makusue Ski & Sport Club
END:VEVENT
BEGIN:VEVENT
DTSTART;TZID=UTC:20180119T210000
DTEND;TZID=UTC:20180121T170000
DTSTAMP:20260424T155321
CREATED:20180113T185354Z
LAST-MODIFIED:20180113T185354Z
UID:574-1516395600-1516554000@makusue.org
SUMMARY:Race Qualifier at Shawnee Peak
DESCRIPTION:Join us to cheer on the race team at Shawnee Peak. \nDiscount tickets will be available to all guests of the Makusues. \nMeals and activities are planned all weekend. Email membership@makusue.org for more information.
URL:http://makusue.org/event/race-qualifier-shawnee-peak/
LOCATION:Makusue Ski & Sport Club
END:VEVENT
BEGIN:VEVENT
DTSTART;TZID=UTC:20171210T080000
DTEND;TZID=UTC:20171210T170000
DTSTAMP:20260424T155321
CREATED:20171011T032430Z
LAST-MODIFIED:20171011T041911Z
UID:487-1512892800-1512925200@makusue.org
SUMMARY:Kick Off Weekend
DESCRIPTION:Start off the season with a fun filled weekend at the Makusues. Bretton Woods offers discount tickets for all EICSL members and guests. \nMore details will be posted as the time nears.
URL:http://makusue.org/event/kick-off-weekend/
LOCATION:Makusue Ski & Sport Club
END:VEVENT
BEGIN:VEVENT
DTSTART;TZID=UTC:20171109T150000
DTEND;TZID=UTC:20171112T180000
DTSTAMP:20260424T155321
CREATED:20171011T003219Z
LAST-MODIFIED:20171012T151826Z
UID:477-1510239600-1510509600@makusue.org
SUMMARY:New England Ski Expo
DESCRIPTION:The Makusues will have a booth at the Boston Ski Expo at the Seaport World Trade Center. Stop by and say Hi\, play a game and get to know some of the members. This is a great chance to check out the club locally! \nPreorder you tickets directly from the Expo.
URL:http://makusue.org/event/new-england-ski-expo/
LOCATION:Seaport World Trade Center\, 200 Seaport Blvd\, Boston\, MA\, 02210
END:VEVENT
BEGIN:VEVENT
DTSTART;VALUE=DATE:20170324
DTEND;VALUE=DATE:20170327
DTSTAMP:20260424T155321
CREATED:20161020T234412Z
LAST-MODIFIED:20170208T011302Z
UID:338-1490313600-1490572799@makusue.org
SUMMARY:End of season celebration
DESCRIPTION:Interested in joining us as a guest? Email makusue@gmail.com.
URL:http://makusue.org/event/end-of-season-celebration/
LOCATION:Makusue Ski & Sport Club
ATTACH;FMTTYPE=image/gif:http://makusue.org/wp-content/uploads/2016/10/end-of-season.gif
END:VEVENT
BEGIN:VEVENT
DTSTART;VALUE=DATE:20170303
DTEND;VALUE=DATE:20170306
DTSTAMP:20260424T155321
CREATED:20161020T234316Z
LAST-MODIFIED:20170208T011241Z
UID:336-1488499200-1488758399@makusue.org
SUMMARY:Race Championship at Attitash
DESCRIPTION:Get your competitive juices flowing and join us for race weekend. All levels are welcome\, and both skiing and snowboarding competitions are held. All guests enjoy a discount lift ticket when staying with the Makusues. \nInterested in joining us as a guest? Email makusue@gmail.com.
URL:http://makusue.org/event/race-championship-at-attitash/
LOCATION:Makusue Ski & Sport Club
ATTACH;FMTTYPE=image/gif:http://makusue.org/wp-content/uploads/2016/10/trophies.gif
END:VEVENT
BEGIN:VEVENT
DTSTART;VALUE=DATE:20170203
DTEND;VALUE=DATE:20170206
DTSTAMP:20260424T155321
CREATED:20161020T234232Z
LAST-MODIFIED:20161021T192631Z
UID:334-1486080000-1486339199@makusue.org
SUMMARY:3rd Race Qualifier at Wildcat
DESCRIPTION:Get your competitive juices flowing and join us for race weekend. All levels are welcome\, and both skiing and snowboarding competitions are held. All guests enjoy a discount lift ticket when staying with the Makusues. \nInterested in joining us as a guest? Email info@makusue.org.
URL:http://makusue.org/event/3rd-race-qualifier-at-wildcat/
LOCATION:Makusue Ski & Sport Club
ATTACH;FMTTYPE=image/jpeg:http://makusue.org/wp-content/uploads/2016/09/race6.jpg
END:VEVENT
BEGIN:VEVENT
DTSTART;VALUE=DATE:20170120
DTEND;VALUE=DATE:20170123
DTSTAMP:20260424T155321
CREATED:20161020T234035Z
LAST-MODIFIED:20161021T193006Z
UID:330-1484870400-1485129599@makusue.org
SUMMARY:2nd Race Qualifier at Shawnee Peak
DESCRIPTION:Get your competitive juices flowing and join us for race weekend. All levels are welcome\, and both skiing and snowboarding competitions are held. All guests enjoy a discount lift ticket when staying with the Makusues. \nInterested in joining us as a guest? Email info@makusue.org.
URL:http://makusue.org/event/2nd-race-qualifier-at-shawnee-peak/
ATTACH;FMTTYPE=image/jpeg:http://makusue.org/wp-content/uploads/2016/09/race5.jpg
END:VEVENT
BEGIN:VEVENT
DTSTART;VALUE=DATE:20170106
DTEND;VALUE=DATE:20170109
DTSTAMP:20260424T155321
CREATED:20161020T233945Z
LAST-MODIFIED:20161021T192406Z
UID:328-1483660800-1483919999@makusue.org
SUMMARY:1st Race Qualifier at Bretton Woods.
DESCRIPTION:Get your competitive juices flowing and join us for race weekend. All levels are welcome\, and both skiing and snowboarding competitions are held. All guests enjoy a discount lift ticket when staying with the Makusues. \nInterested in joining us as a guest? Email info@makusue.org.
URL:http://makusue.org/event/1st-race-qualifier-at-bretton-woods-all-guests-enjoy-a-discount-lift-ticket-when-staying-with-the-makusues/
LOCATION:Makusue Ski & Sport Club
ATTACH;FMTTYPE=image/jpeg:http://makusue.org/wp-content/uploads/2016/09/race3.jpg
END:VEVENT
BEGIN:VEVENT
DTSTART;VALUE=DATE:20161230
DTEND;VALUE=DATE:20170102
DTSTAMP:20260424T155321
CREATED:20161020T233853Z
LAST-MODIFIED:20161021T191751Z
UID:326-1483056000-1483315199@makusue.org
SUMMARY:NYE at the Makusues
DESCRIPTION:Ring in the New Year at The Makusues! Check back for details. \nInterested in joining us as a guest? Email info@makusue.org.
URL:http://makusue.org/event/nye-at-the-makusues/
ATTACH;FMTTYPE=image/gif:http://makusue.org/wp-content/uploads/2016/10/MAKaNYE.gif
END:VEVENT
BEGIN:VEVENT
DTSTART;VALUE=DATE:20161209
DTEND;VALUE=DATE:20161212
DTSTAMP:20260424T155321
CREATED:20161020T233720Z
LAST-MODIFIED:20161021T191119Z
UID:324-1481241600-1481500799@makusue.org
SUMMARY:Kickoff weekend at Bretton Woods
DESCRIPTION:Join EICSL as we welcome the new ski season with discount tickets at Bretton Woods. \nInterested in joining us as a guest? Email info@makusue.org.
URL:http://makusue.org/event/kickoff-weekend-at-bretton-woods-join-eicsl-as-we-welcome-the-new-ski-season-with-discount-tickets-at-bretton-woods/
LOCATION:Makusue Ski & Sport Club
ATTACH;FMTTYPE=image/jpeg:http://makusue.org/wp-content/uploads/2016/09/act7.jpg
END:VEVENT
BEGIN:VEVENT
DTSTART;VALUE=DATE:20161125
DTEND;VALUE=DATE:20161128
DTSTAMP:20260424T155321
CREATED:20161020T233638Z
LAST-MODIFIED:20161029T164853Z
UID:322-1480032000-1480291199@makusue.org
SUMMARY:Pay tribute to ULLR for the snows to come!
DESCRIPTION:Come join us for a day of epic\, Viking-themed games.  At the end there will be a throw down between ullr and odin.  There will be prizes and silliness!!\n\nUllr!!   Cheers to a great ski season!!\n\nInterested in joining us as a guest? Email info@makusue.org.
URL:http://makusue.org/event/pay-tribute-to-ullr-for-the-snows-to-come/
LOCATION:Makusue Ski & Sport Club
ATTACH;FMTTYPE=image/gif:http://makusue.org/wp-content/uploads/2016/10/viking-helmet.gif
END:VEVENT
BEGIN:VEVENT
DTSTART;TZID=UTC:20161030T000000
DTEND;TZID=UTC:20161030T050000
DTSTAMP:20260424T155321
CREATED:20161019T000415Z
LAST-MODIFIED:20161021T190411Z
UID:309-1477785600-1477803600@makusue.org
SUMMARY:Halloween at The Makusues
DESCRIPTION:Join us for our traditional Halloween weekend where we turn the house into a haunted lodge! \nTotal Weekend Cost $87 – Includes meals and lodging \nSpend the day hiking in the mountains. We will hike the Black Cap Trail – at the top of Hurricane Mountain Road. The trail is 2.5 miles total in and out\, and offers a great view at the top. \nIn the evening\, we will have a costume contest at the house and meals will be offered at our sister club for $25 (Sat and Sun- breakfast\,Saturday dinner). \nDress to scare! \nAll yes rsvps will be followed up with an email and phone call. \n**The Makusue Ski House\, located in North Conway\, NH\, is only minutes from Cranmore\, Wildcat\, Attitash and Black Mountains. Come be our guest for the weekend at only $25 a night per person (The Makusue Ski Club is a not-for-profit club with all $ put back into the house to cover expenses.) Visit Makusue.org for more information or email us!**
URL:http://makusue.org/event/halloween-at-the-makusues/
LOCATION:Makusue Ski & Sport Club
ATTACH;FMTTYPE=image/jpeg:http://makusue.org/wp-content/uploads/2016/08/halloween.jpg
END:VEVENT
END:VCALENDAR